BEGIN:VCALENDAR
VERSION:2.0
PRODID:-//PYVOBJECT//NONSGML Version 0.9.9//EN
X-WR-TIMEZONE:Africa/Johannesburg
BEGIN:VTIMEZONE
TZID:Africa/Johannesburg
BEGIN:STANDARD
DTSTART:20000101T000000
RRULE:FREQ=YEARLY;BYMONTH=1
TZNAME:SAST
TZOFFSETFROM:+0200
TZOFFSETTO:+0200
END:STANDARD
END:VTIMEZONE
BEGIN:VEVENT
UID:20260420T121700Z - 62929@eos-content
DTSTART;TZID=Africa/Johannesburg:20260421T150000
DTEND;TZID=Africa/Johannesburg:20260421T170000
ATTENDEE:MAILTO:benita.marais@century21.co.za
ATTENDEE:MAILTO:kowie.engels@century21.co.za
DESCRIPTION:https://www.century21.co.za/results/residential/for-sale/pretor
 ia/magalieskruin/apartment/3145294/713-villa-trianta-480-granaat-avenue/\n
 \nContact Agent to arrange scheduled time in advance\n\nBenita Marais (072
  196 1791)\n\nKowie Engels (081 330 1629)
DTSTAMP:20260420T121700Z
LOCATION:713 Villa Trianta\, 480 Granaat Avenue\, Magalieskruin\, Pretoria
SUMMARY:Century 21 South Africa Show Day - MTA-RS01293
END:VEVENT
END:VCALENDAR
