BEGIN:VCALENDAR
VERSION:2.0
PRODID:-//PYVOBJECT//NONSGML Version 0.9.9//EN
X-WR-TIMEZONE:Africa/Johannesburg
BEGIN:VTIMEZONE
TZID:Africa/Johannesburg
BEGIN:STANDARD
DTSTART:20000101T000000
RRULE:FREQ=YEARLY;BYMONTH=1
TZNAME:SAST
TZOFFSETFROM:+0200
TZOFFSETTO:+0200
END:STANDARD
END:VTIMEZONE
BEGIN:VEVENT
UID:20260424T120343Z - 39625@eos-content
DTSTART;TZID=Africa/Johannesburg:20260425T110000
DTEND;TZID=Africa/Johannesburg:20260425T130000
ATTENDEE:MAILTO:elmarie.vanzyl@century21.co.za
ATTENDEE:MAILTO:trish.hoff@century21.co.za
ATTENDEE:MAILTO:henrich.blaauw@century21.co.za
DESCRIPTION:https://www.century21.co.za/results/residential/for-sale/knysna
 /knysna-central/apartment/3143590/212-seahorse-28-gordon-street/\n\nStrict
 ly by appointment only!\n\nElmarie Van Zyl (082 888 2026)\n\nTrish Hoff (0
 71 603 5958)\n\nHenrich Blaauw (082 709 3939)
DTSTAMP:20260424T120343Z
LOCATION:212 Seahorse\, 28 Gordon Street\, Knysna Central\, Knysna
SUMMARY:Century 21 South Africa Show Day - KNS-RS00428
END:VEVENT
END:VCALENDAR
