BEGIN:VCALENDAR
VERSION:2.0
PRODID:-//PYVOBJECT//NONSGML Version 0.9.9//EN
X-WR-TIMEZONE:Africa/Johannesburg
BEGIN:VTIMEZONE
TZID:Africa/Johannesburg
BEGIN:STANDARD
DTSTART:20000101T000000
RRULE:FREQ=YEARLY;BYMONTH=1
TZNAME:SAST
TZOFFSETFROM:+0200
TZOFFSETTO:+0200
END:STANDARD
END:VTIMEZONE
BEGIN:VEVENT
UID:20260424T013746Z - 46264@eos-content
DTSTART;TZID=Africa/Johannesburg:20260425T110000
DTEND;TZID=Africa/Johannesburg:20260425T140000
ATTENDEE:MAILTO:phillip.lottering@century21.co.za
DESCRIPTION:https://www.century21.co.za/results/residential/for-sale/langeb
 aan/laguna-sands/house/3093688/28-strandroos-crescent/\n\nLaguna Sands\n\n
 Phillip Lottering (071 964 7913)
DTSTAMP:20260424T013746Z
LOCATION:28 Strandroos Crescent\, Laguna Sands\, Langebaan
SUMMARY:Century 21 South Africa Show Day - WCT-RS01207
END:VEVENT
END:VCALENDAR
