BEGIN:VCALENDAR
VERSION:2.0
PRODID:-//PYVOBJECT//NONSGML Version 0.9.9//EN
X-WR-TIMEZONE:Africa/Johannesburg
BEGIN:VTIMEZONE
TZID:Africa/Johannesburg
BEGIN:STANDARD
DTSTART:20000101T000000
RRULE:FREQ=YEARLY;BYMONTH=1
TZNAME:SAST
TZOFFSETFROM:+0200
TZOFFSETTO:+0200
END:STANDARD
END:VTIMEZONE
BEGIN:VEVENT
UID:20260420T121328Z - 29204@eos-content
DTSTART;TZID=Africa/Johannesburg:20260422T100000
DTEND;TZID=Africa/Johannesburg:20260422T180000
ATTENDEE:MAILTO:gail.chihanga@century21.co.za
DESCRIPTION:https://www.century21.co.za/results/commercial/for-sale/potchef
 stroom/potchefstroom-central/business/689074/56-kruis-street/\n\n56 kruis 
 street potchefstroom!!\n\nGail Chihanga (062 511 5223)
DTSTAMP:20260420T121328Z
LOCATION:56 Kruis Street\, Potchefstroom Central\, Potchefstroom
SUMMARY:Century 21 South Africa Show Day - POT-CS00058
END:VEVENT
END:VCALENDAR
